BEGIN:VCALENDAR
VERSION:2.0
CALSCALE:GREGORIAN
PRODID:-//Diputació de Barcelona//DibaCMS//EN
BEGIN:VEVENT
UID:4945
DTSTAMP:20260421T043221
DTSTART:20211123T190000
DTEND:20211125T200000
SUMMARY:"Calladeta no ets més maca", de Núria Prieto
LOCATION:El Progrés 
METHOD:PUBLISH
X-WR-CALNAME:ullastrell@ullastrell.cat
X-WR-TIMEZONE:Europe/Madrid
DESCRIPTION:Presentació d’un llibre molt especial que recull 10 històries de 10 noies que han patit violència de gènere. Un relat ficcionat basat en històries reals.

Més info a cartelleria específica 25N.

URI:https://www.ullastrell.cat/actualitat/agenda/calladeta-no-ets-mes-maca-de-nuria-prieto.html
CLASS:PUBLIC
END:VEVENT
END:VCALENDAR
