BEGIN:VCALENDAR
VERSION:2.0
CALSCALE:GREGORIAN
PRODID:-//Diputació de Barcelona//DibaCMS//EN
BEGIN:VEVENT
UID:4949
DTSTAMP:20260420T235639
DTSTART:20211216T170000
DTEND:20211216T180000
SUMMARY:Conte va conte ve: L'home del pal, amb Laura Asensio
LOCATION:C/ Josep Fornell, s/n 08231 Ullastrell
METHOD:PUBLISH
X-WR-CALNAME:ullastrell@ullastrell.cat
X-WR-TIMEZONE:Europe/Madrid
DESCRIPTION:L'home pal viu amb la família pal i tot passejant un bon dia viu una aventura emocionant. Acompanya'l per tornar a casa per Nadal, amb la seva família! Recomanat a partir de 4 anys.

URI:https://www.ullastrell.cat/actualitat/agenda/conte-va-conte-ve-lhome-del-pal-amb-laura-asensio.html
CLASS:PUBLIC
END:VEVENT
END:VCALENDAR
