BEGIN:VCALENDAR
VERSION:2.0
CALSCALE:GREGORIAN
PRODID:-//Diputació de Barcelona//DibaCMS//EN
BEGIN:VEVENT
UID:4952
DTSTAMP:20260421T060418
DTSTART:20211120T000000
DTEND:20211128T000000
SUMMARY:Setmana de prevenció de residus
LOCATION:
METHOD:PUBLISH
X-WR-CALNAME:ullastrell@ullastrell.cat
X-WR-TIMEZONE:Europe/Madrid
DESCRIPTION:
URI:https://www.ullastrell.cat/actualitat/agenda/setmana-de-prevencio-de-residus.html
CLASS:PUBLIC
END:VEVENT
END:VCALENDAR
