BEGIN:VCALENDAR
VERSION:2.0
CALSCALE:GREGORIAN
PRODID:-//Diputació de Barcelona//DibaCMS//EN
BEGIN:VEVENT
UID:4957
DTSTAMP:20260421T030947
DTSTART:20211025T200000
DTEND:20211025T220000
SUMMARY:Reunió de Barri - La Serra
LOCATION:Plaça Lluís Companys 
METHOD:PUBLISH
X-WR-CALNAME:ullastrell@ullastrell.cat
X-WR-TIMEZONE:Europe/Madrid
DESCRIPTION:
URI:https://www.ullastrell.cat/actualitat/agenda/4957-reunio-de-barri-la-serra.html
CLASS:PUBLIC
END:VEVENT
END:VCALENDAR
