BEGIN:VCALENDAR
VERSION:2.0
CALSCALE:GREGORIAN
PRODID:-//Diputació de Barcelona//DibaCMS//EN
BEGIN:VEVENT
UID:4964
DTSTAMP:20260421T060158
DTSTART:20211029T163000
DTEND:20211029T190000
SUMMARY:Venda de Castanyes
LOCATION:Davant de l'Ajuntament i Davant de l'Escola 
METHOD:PUBLISH
X-WR-CALNAME:ullastrell@ullastrell.cat
X-WR-TIMEZONE:Europe/Madrid
DESCRIPTION:Alumnes de 5è A i 5è B organitzen la Venda de castanyes.

URI:https://www.ullastrell.cat/actualitat/agenda/4964-venda-de-castanyes.html
CLASS:PUBLIC
END:VEVENT
END:VCALENDAR
