BEGIN:VCALENDAR
VERSION:2.0
CALSCALE:GREGORIAN
PRODID:-//Diputació de Barcelona//DibaCMS//EN
BEGIN:VEVENT
UID:4984
DTSTAMP:20260421T013718
DTSTART:20211126T180000
DTEND:20211126T200000
SUMMARY:Mercat Intercanvi de Joguines
LOCATION:Gimnàs Escola Vella 
METHOD:PUBLISH
X-WR-CALNAME:ullastrell@ullastrell.cat
X-WR-TIMEZONE:Europe/Madrid
DESCRIPTION:Porta la teva joguina que no utilitzis per tal d'intercanviar-la o donar-la a un altre infant.

URI:https://www.ullastrell.cat/actualitat/agenda/mercat-intercanvi-de-joguines.html
CLASS:PUBLIC
END:VEVENT
END:VCALENDAR
