BEGIN:VCALENDAR
VERSION:2.0
CALSCALE:GREGORIAN
PRODID:-//Diputació de Barcelona//DibaCMS//EN
BEGIN:VEVENT
UID:4985
DTSTAMP:20260421T031132
DTSTART:20211130T183000
DTEND:20211130T210000
SUMMARY:Taller Ecomenstruació
LOCATION:
METHOD:PUBLISH
X-WR-CALNAME:ullastrell@ullastrell.cat
X-WR-TIMEZONE:Europe/Madrid
DESCRIPTION:Canviem les regles, cap a una menstruació residu zero!

URI:https://www.ullastrell.cat/actualitat/agenda/taller-ecomenstruacio.html
CLASS:PUBLIC
END:VEVENT
END:VCALENDAR
