BEGIN:VCALENDAR
VERSION:2.0
CALSCALE:GREGORIAN
PRODID:-//Diputació de Barcelona//DibaCMS//EN
BEGIN:VEVENT
UID:4986
DTSTAMP:20260421T012913
DTSTART:20211127T103000
DTEND:20211127T130000
SUMMARY:Sortida Plogging Camí dels plataners
LOCATION:
METHOD:PUBLISH
X-WR-CALNAME:ullastrell@ullastrell.cat
X-WR-TIMEZONE:Europe/Madrid
DESCRIPTION:Activitat destinada a tots els públics on es farà caminada i es recolliran residus llançats a la natura.

URI:https://www.ullastrell.cat/actualitat/agenda/sortida-plogging-cami-dels-plataners.html
CLASS:PUBLIC
END:VEVENT
END:VCALENDAR
