BEGIN:VCALENDAR
VERSION:2.0
CALSCALE:GREGORIAN
PRODID:-//Diputació de Barcelona//DibaCMS//EN
BEGIN:VEVENT
UID:4987
DTSTAMP:20260421T072228
DTSTART:20211128T103000
DTEND:20211128T130000
SUMMARY:Ecojuga
LOCATION:A la Serra 
METHOD:PUBLISH
X-WR-CALNAME:ullastrell@ullastrell.cat
X-WR-TIMEZONE:Europe/Madrid
DESCRIPTION:Companyia La Residual

URI:https://www.ullastrell.cat/actualitat/agenda/ecojuga.html
CLASS:PUBLIC
END:VEVENT
END:VCALENDAR
