BEGIN:VCALENDAR
VERSION:2.0
CALSCALE:GREGORIAN
PRODID:-//Diputació de Barcelona//DibaCMS//EN
BEGIN:VEVENT
UID:4990
DTSTAMP:20260420T235713
DTSTART:20211124T180000
DTEND:20211124T200000
SUMMARY:Presentació del llibre: La niña que sana. D'Ester López Urbano
LOCATION:Altell del Casal 
METHOD:PUBLISH
X-WR-CALNAME:ullastrell@ullastrell.cat
X-WR-TIMEZONE:Europe/Madrid
DESCRIPTION:Una història de superació de violència familiar relatada desde la nena que ara, com a terapeuta, ens presenta aquest llibre.

URI:https://www.ullastrell.cat/actualitat/agenda/presentacio-del-llibre-la-nina-que-sana-dester-lopez-urbano.html
CLASS:PUBLIC
END:VEVENT
END:VCALENDAR
