BEGIN:VCALENDAR
VERSION:2.0
CALSCALE:GREGORIAN
PRODID:-//Diputació de Barcelona//DibaCMS//EN
BEGIN:VEVENT
UID:5001
DTSTAMP:20260420T204431
DTSTART:20220319T220000
DTEND:20220320T010000
SUMMARY:Desescalada Riot!!
LOCATION:Gimnàs de l'Escola Vella. 
METHOD:PUBLISH
X-WR-CALNAME:ullastrell@ullastrell.cat
X-WR-TIMEZONE:Europe/Madrid
DESCRIPTION:Cicle de concerts punk rock.

URI:https://www.ullastrell.cat/actualitat/agenda/5001-desescalada-riot.html
CLASS:PUBLIC
END:VEVENT
END:VCALENDAR
