BEGIN:VCALENDAR
VERSION:2.0
CALSCALE:GREGORIAN
PRODID:-//Diputació de Barcelona//DibaCMS//EN
BEGIN:VEVENT
UID:5013
DTSTAMP:20260420T204533
DTSTART:20220508T183000
DTEND:20220508T210000
SUMMARY:Sospitós habitual
LOCATION:C/ Josep Fornell, s/n 08231 Ullastrell
METHOD:PUBLISH
X-WR-CALNAME:ullastrell@ullastrell.cat
X-WR-TIMEZONE:Europe/Madrid
DESCRIPTION:33a Mostra de Teatre d'Ullastrell

III Memorial Roser Anglada

URI:https://www.ullastrell.cat/actualitat/agenda/sospitos-habitual.html
CLASS:PUBLIC
END:VEVENT
END:VCALENDAR
