BEGIN:VCALENDAR
VERSION:2.0
CALSCALE:GREGORIAN
PRODID:-//Diputació de Barcelona//DibaCMS//EN
BEGIN:VEVENT
UID:5023
DTSTAMP:20260420T235601
DTSTART:20211222T200000
DTEND:20211222T210000
SUMMARY:Ple extraordinari 22/12/2021
LOCATION:
METHOD:PUBLISH
X-WR-CALNAME:ullastrell@ullastrell.cat
X-WR-TIMEZONE:Europe/Madrid
DESCRIPTION:Tipus de convocatòria: Extraordinària
Data i hora: 22 / de desembre / 2021 a les 20:00
Lloc: Participació a distància

URI:https://www.ullastrell.cat/actualitat/agenda/ple-extraordinari-22122021.html
CLASS:PUBLIC
END:VEVENT
END:VCALENDAR
