BEGIN:VCALENDAR
VERSION:2.0
CALSCALE:GREGORIAN
PRODID:-//Diputació de Barcelona//DibaCMS//EN
BEGIN:VEVENT
UID:5049
DTSTAMP:20260420T235745
DTSTART:20220130T090000
DTEND:20220130T140000
SUMMARY:Campionat d'escacs de Catalunya
LOCATION:Altell Del Casal 
METHOD:PUBLISH
X-WR-CALNAME:ullastrell@ullastrell.cat
X-WR-TIMEZONE:Europe/Madrid
DESCRIPTION:
URI:https://www.ullastrell.cat/actualitat/agenda/campionat-descacs-de-catalunya.html
CLASS:PUBLIC
END:VEVENT
END:VCALENDAR
