BEGIN:VCALENDAR
VERSION:2.0
CALSCALE:GREGORIAN
PRODID:-//Diputació de Barcelona//DibaCMS//EN
BEGIN:VEVENT
UID:5052
DTSTAMP:20260420T205829
DTSTART:20220313T090000
DTEND:20220313T140000
SUMMARY:Campionat d'escacs de Catalunya
LOCATION:Altell Del Casal 
METHOD:PUBLISH
X-WR-CALNAME:ullastrell@ullastrell.cat
X-WR-TIMEZONE:Europe/Madrid
DESCRIPTION:
URI:https://www.ullastrell.cat/actualitat/agenda/5052-campionat-descacs-de-catalunya.html
CLASS:PUBLIC
END:VEVENT
END:VCALENDAR
