BEGIN:VCALENDAR
VERSION:2.0
CALSCALE:GREGORIAN
PRODID:-//Diputació de Barcelona//DibaCMS//EN
BEGIN:VEVENT
UID:5058
DTSTAMP:20260420T224533
DTSTART:20220320T090000
DTEND:20220320T140000
SUMMARY:Campionat d'escacs de Catalunya
LOCATION:Carrer Empordà, 30
Palautordera 
METHOD:PUBLISH
X-WR-CALNAME:ullastrell@ullastrell.cat
X-WR-TIMEZONE:Europe/Madrid
DESCRIPTION:
URI:https://www.ullastrell.cat/actualitat/agenda/5058-campionat-descacs-de-catalunya.html
CLASS:PUBLIC
END:VEVENT
END:VCALENDAR
