BEGIN:VCALENDAR
VERSION:2.0
CALSCALE:GREGORIAN
PRODID:-//Diputació de Barcelona//DibaCMS//EN
BEGIN:VEVENT
UID:5075
DTSTAMP:20260420T205720
DTSTART:20220217T170000
DTEND:20220217T180000
SUMMARY:Conte va Conte ve. Diables
LOCATION:C/ Josep Fornell, s/n 08231 Ullastrell
METHOD:PUBLISH
X-WR-CALNAME:ullastrell@ullastrell.cat
X-WR-TIMEZONE:Europe/Madrid
DESCRIPTION:Amb La Panera

URI:https://www.ullastrell.cat/actualitat/agenda/conte-va-conte-ve-diables.html
CLASS:PUBLIC
END:VEVENT
END:VCALENDAR
