BEGIN:VCALENDAR
VERSION:2.0
CALSCALE:GREGORIAN
PRODID:-//Diputació de Barcelona//DibaCMS//EN
BEGIN:VEVENT
UID:5078
DTSTAMP:20260420T204516
DTSTART:20220227T113000
DTEND:20220227T150000
SUMMARY:Carnestoltes
LOCATION:Plaça de les Escoles 
METHOD:PUBLISH
X-WR-CALNAME:ullastrell@ullastrell.cat
X-WR-TIMEZONE:Europe/Madrid
DESCRIPTION:Prepara la teva disfressa i vine a ballar diumenge 27 amb l' espectacle d'animació infantil de cia. El dit al nas! 

URI:https://www.ullastrell.cat/actualitat/agenda/5078-carnestoltes.html
CLASS:PUBLIC
END:VEVENT
END:VCALENDAR
