BEGIN:VCALENDAR
VERSION:2.0
CALSCALE:GREGORIAN
PRODID:-//Diputació de Barcelona//DibaCMS//EN
BEGIN:VEVENT
UID:5094
DTSTAMP:20260420T222116
DTSTART:20220227T183000
DTEND:20220227T210000
SUMMARY:L'Artista Local
LOCATION:Plaça de les Escoles 
METHOD:PUBLISH
X-WR-CALNAME:ullastrell@ullastrell.cat
X-WR-TIMEZONE:Europe/Madrid
DESCRIPTION:El Festival "Per carnaval, l'artista local" t'espera al Casal!

URI:https://www.ullastrell.cat/actualitat/agenda/lartista-local.html
CLASS:PUBLIC
END:VEVENT
END:VCALENDAR
