BEGIN:VCALENDAR
VERSION:2.0
CALSCALE:GREGORIAN
PRODID:-//Diputació de Barcelona//DibaCMS//EN
BEGIN:VEVENT
UID:5160
DTSTAMP:20260420T205736
DTSTART:20220402T100000
DTEND:20220402T113000
SUMMARY:Acte protesta contra la línia de molt alta tensió (MAT)
LOCATION:Plaça dels 4 Vents 
METHOD:PUBLISH
X-WR-CALNAME:ullastrell@ullastrell.cat
X-WR-TIMEZONE:Europe/Madrid
DESCRIPTION:Ens trobarem a la plaça dels 4 vents i farem una passejada, apta per tots els públics, als voltants de l’entorn afectat.

URI:https://www.ullastrell.cat/actualitat/agenda/acte-protesta-contra-la-linia-de-molt-alta-tensio-mat.html
CLASS:PUBLIC
END:VEVENT
END:VCALENDAR
