BEGIN:VCALENDAR
VERSION:2.0
CALSCALE:GREGORIAN
PRODID:-//Diputació de Barcelona//DibaCMS//EN
BEGIN:VEVENT
UID:5181
DTSTAMP:20260420T204415
DTSTART:20220504T170000
DTEND:20220504T190000
SUMMARY:Jocs de Taula
LOCATION:C/Josep Fornell s/n  08231 Ullastrell
METHOD:PUBLISH
X-WR-CALNAME:ullastrell@ullastrell.cat
X-WR-TIMEZONE:Europe/Madrid
DESCRIPTION:Per a totes les edats.

URI:https://www.ullastrell.cat/actualitat/agenda/5181-jocs-de-taula.html
CLASS:PUBLIC
END:VEVENT
END:VCALENDAR
