BEGIN:VCALENDAR
VERSION:2.0
CALSCALE:GREGORIAN
PRODID:-//Diputació de Barcelona//DibaCMS//EN
BEGIN:VEVENT
UID:5183
DTSTAMP:20260420T204451
DTSTART:20220515T180000
DTEND:20220515T200000
SUMMARY:Projecció del Documental. Ullastrell: Els costums i les festes d'abans
LOCATION:C/ Josep Fornell, s/n 08231 Ullastrell
METHOD:PUBLISH
X-WR-CALNAME:ullastrell@ullastrell.cat
X-WR-TIMEZONE:Europe/Madrid
DESCRIPTION:Últim i esperat projecte de la trilogia sobre la conservació de la memòria històrica d'Ullastrell, produït per l'Ajuntament d'Ullastrell i amb la producció tècnica de Sabem.com.

URI:https://www.ullastrell.cat/actualitat/agenda/projeccio-del-documental-ullastrell-els-costums-i-les-festes-dabans.html
CLASS:PUBLIC
END:VEVENT
END:VCALENDAR
