BEGIN:VCALENDAR
VERSION:2.0
CALSCALE:GREGORIAN
PRODID:-//Diputació de Barcelona//DibaCMS//EN
BEGIN:VEVENT
UID:5189
DTSTAMP:20260420T191613
DTSTART:20220520T180000
DTEND:20220520T200000
SUMMARY:Inauguració Exposició. Pit al descobert
LOCATION:C/ Serra 37 08231 Ullastrell
METHOD:PUBLISH
X-WR-CALNAME:ullastrell@ullastrell.cat
X-WR-TIMEZONE:Europe/Madrid
DESCRIPTION:Organitza: Oncolliga amb el suport de la Regidoria de Salut de l'Ajuntament d'Ullastrell

URI:https://www.ullastrell.cat/actualitat/agenda/inauguracio-exposicio-pit-al-descobert.html
CLASS:PUBLIC
END:VEVENT
END:VCALENDAR
