BEGIN:VCALENDAR
VERSION:2.0
CALSCALE:GREGORIAN
PRODID:-//Diputació de Barcelona//DibaCMS//EN
BEGIN:VEVENT
UID:5195
DTSTAMP:20260420T204354
DTSTART:20220526T183000
DTEND:20220526T200000
SUMMARY:Xerrada. Gent gran i Salut CANCEL·LAT
LOCATION:C/ Serra 37 08231 Ullastrell
METHOD:PUBLISH
X-WR-CALNAME:ullastrell@ullastrell.cat
X-WR-TIMEZONE:Europe/Madrid
DESCRIPTION:Amb Pilar de Paz, metgessa del CAP  

URI:https://www.ullastrell.cat/actualitat/agenda/xerrada-gent-gran-i-salut-cancellat.html
CLASS:PUBLIC
END:VEVENT
END:VCALENDAR
