BEGIN:VCALENDAR
VERSION:2.0
CALSCALE:GREGORIAN
PRODID:-//Diputació de Barcelona//DibaCMS//EN
BEGIN:VEVENT
UID:5243
DTSTAMP:20260420T174142
DTSTART:20220622T180000
DTEND:20220622T190000
SUMMARY:Taller d'alimentació complementària.
LOCATION:C/ Serra 37 08231 Ullastrell
METHOD:PUBLISH
X-WR-CALNAME:ullastrell@ullastrell.cat
X-WR-TIMEZONE:Europe/Madrid
DESCRIPTION:Taller dirigit a totes les persones que intervenen el l'alimentació del nadó.

Amb l'Ariadna Renedo

URI:https://www.ullastrell.cat/actualitat/agenda/taller-dalimentacio-complementaria.html
CLASS:PUBLIC
END:VEVENT
END:VCALENDAR
