BEGIN:VCALENDAR
VERSION:2.0
CALSCALE:GREGORIAN
PRODID:-//Diputació de Barcelona//DibaCMS//EN
BEGIN:VEVENT
UID:5245
DTSTAMP:20260420T191720
DTSTART:20220706T163000
DTEND:20220706T193000
SUMMARY:Jocs Gegants i Futbolí Humà
LOCATION:C/ Josep Fornell, s/n 08231 Ullastrell
METHOD:PUBLISH
X-WR-CALNAME:ullastrell@ullastrell.cat
X-WR-TIMEZONE:Europe/Madrid
DESCRIPTION:Vine a inaugurar l'Estiu Jove 2022 amb una gran jornada de Jocs

URI:https://www.ullastrell.cat/actualitat/agenda/jocs-gegants-i-futboli-huma.html
CLASS:PUBLIC
END:VEVENT
END:VCALENDAR
