BEGIN:VCALENDAR
VERSION:2.0
CALSCALE:GREGORIAN
PRODID:-//Diputació de Barcelona//DibaCMS//EN
BEGIN:VEVENT
UID:5246
DTSTAMP:20260420T191819
DTSTART:20220713T170000
DTEND:20220713T193000
SUMMARY:The Game Day
LOCATION:Pati de Les Moreres 
METHOD:PUBLISH
X-WR-CALNAME:ullastrell@ullastrell.cat
X-WR-TIMEZONE:Europe/Madrid
DESCRIPTION:Rocket League, Just Dance, Mario Car i molt més

URI:https://www.ullastrell.cat/actualitat/agenda/the-game-day.html
CLASS:PUBLIC
END:VEVENT
END:VCALENDAR
