BEGIN:VCALENDAR
VERSION:2.0
CALSCALE:GREGORIAN
PRODID:-//Diputació de Barcelona//DibaCMS//EN
BEGIN:VEVENT
UID:5261
DTSTAMP:20260420T175050
DTSTART:20220723T220000
DTEND:20220724T000000
SUMMARY:Nits de Cinema
LOCATION:Plaça de les escoles 
METHOD:PUBLISH
X-WR-CALNAME:ullastrell@ullastrell.cat
X-WR-TIMEZONE:Europe/Madrid
DESCRIPTION:Captain Fantastic

URI:https://www.ullastrell.cat/actualitat/agenda/nits-de-cinema.html
CLASS:PUBLIC
END:VEVENT
END:VCALENDAR
