BEGIN:VCALENDAR
VERSION:2.0
CALSCALE:GREGORIAN
PRODID:-//Diputació de Barcelona//DibaCMS//EN
BEGIN:VEVENT
UID:5268
DTSTAMP:20260420T204652
DTSTART:20220813T163000
DTEND:20220813T180000
SUMMARY:Torneig de botifarra "Ullas vs Trell"
LOCATION:Altell del Casal d'Ullastrell 
METHOD:PUBLISH
X-WR-CALNAME:ullastrell@ullastrell.cat
X-WR-TIMEZONE:Europe/Madrid
DESCRIPTION:La parella guanyadora del torneig tindrà un premi i sumarà 20 punts al seu equip.

URI:https://www.ullastrell.cat/actualitat/agenda/torneig-de-botifarra-ullas-vs-trell.html
CLASS:PUBLIC
END:VEVENT
END:VCALENDAR
