BEGIN:VCALENDAR
VERSION:2.0
CALSCALE:GREGORIAN
PRODID:-//Diputació de Barcelona//DibaCMS//EN
BEGIN:VEVENT
UID:5272
DTSTAMP:20260420T191546
DTSTART:20220813T213000
DTEND:20220813T223000
SUMMARY:ULLAS vs TRELL, l'inici de la competició
LOCATION:C/ Serra, 17 08231 Ullastrell
METHOD:PUBLISH
X-WR-CALNAME:ullastrell@ullastrell.cat
X-WR-TIMEZONE:Europe/Madrid
DESCRIPTION:Iniciem la competició amb les primeres proves per veure quí serà l'equip guanyador.

URI:https://www.ullastrell.cat/actualitat/agenda/ullas-vs-trell-linici-de-la-competicio.html
CLASS:PUBLIC
END:VEVENT
END:VCALENDAR
