BEGIN:VCALENDAR
VERSION:2.0
CALSCALE:GREGORIAN
PRODID:-//Diputació de Barcelona//DibaCMS//EN
BEGIN:VEVENT
UID:5273
DTSTAMP:20260420T175146
DTSTART:20220813T220000
DTEND:20220813T230000
SUMMARY:Ressopó popular
LOCATION:C/ Serra, 17 08231 Ullastrell
METHOD:PUBLISH
X-WR-CALNAME:ullastrell@ullastrell.cat
X-WR-TIMEZONE:Europe/Madrid
DESCRIPTION:Per gentilesa dels responsable del Bar de la Festa Major i de l'Ajuntament d'Ullastrell

URI:https://www.ullastrell.cat/actualitat/agenda/ressopo-popular.html
CLASS:PUBLIC
END:VEVENT
END:VCALENDAR
