BEGIN:VCALENDAR
VERSION:2.0
CALSCALE:GREGORIAN
PRODID:-//Diputació de Barcelona//DibaCMS//EN
BEGIN:VEVENT
UID:5276
DTSTAMP:20260420T175131
DTSTART:20220814T000000
DTEND:20220814T050000
SUMMARY:Nit Jove
LOCATION:Pati de Les Moreres 
METHOD:PUBLISH
X-WR-CALNAME:ullastrell@ullastrell.cat
X-WR-TIMEZONE:Europe/Madrid
DESCRIPTION:Amb ELs Kremats i els dj's UPyD

URI:https://www.ullastrell.cat/actualitat/agenda/nit-jove-2022.html
CLASS:PUBLIC
END:VEVENT
END:VCALENDAR
