BEGIN:VCALENDAR
VERSION:2.0
CALSCALE:GREGORIAN
PRODID:-//Diputació de Barcelona//DibaCMS//EN
BEGIN:VEVENT
UID:5277
DTSTAMP:20260420T160938
DTSTART:20220814T100000
DTEND:20220814T120000
SUMMARY:Campionat de Sudoku "Ullas vs Trell"
LOCATION:Sala de les orenetes del Progrés. 
METHOD:PUBLISH
X-WR-CALNAME:ullastrell@ullastrell.cat
X-WR-TIMEZONE:Europe/Madrid
DESCRIPTION:La persona guanyadora sumarà 10 punts al seu equip

URI:https://www.ullastrell.cat/actualitat/agenda/campionat-de-sudoku-ullas-vs-trell.html
CLASS:PUBLIC
END:VEVENT
END:VCALENDAR
