BEGIN:VCALENDAR
VERSION:2.0
CALSCALE:GREGORIAN
PRODID:-//Diputació de Barcelona//DibaCMS//EN
BEGIN:VEVENT
UID:5284
DTSTAMP:20260420T171829
DTSTART:20220815T190000
DTEND:20220815T210000
SUMMARY:Concurs de paraulògic i parada informativa
LOCATION:Davant de l'Ajuntament 
METHOD:PUBLISH
X-WR-CALNAME:ullastrell@ullastrell.cat
X-WR-TIMEZONE:Europe/Madrid
DESCRIPTION:Parada informativa, venda de samarretes i reserva d'autocars per l'11 de setembre.

URI:https://www.ullastrell.cat/actualitat/agenda/5284-concurs-de-paraulogic-i-parada-informativa.html
CLASS:PUBLIC
END:VEVENT
END:VCALENDAR
