BEGIN:VCALENDAR
VERSION:2.0
CALSCALE:GREGORIAN
PRODID:-//Diputació de Barcelona//DibaCMS//EN
BEGIN:VEVENT
UID:5287
DTSTAMP:20260420T161238
DTSTART:20220814T210000
DTEND:20220814T223000
SUMMARY:Nit Musical a l'Altell
LOCATION:Altell del Casal 
METHOD:PUBLISH
X-WR-CALNAME:ullastrell@ullastrell.cat
X-WR-TIMEZONE:Europe/Madrid
DESCRIPTION:Concert a la fresca amb The Paradise

URI:https://www.ullastrell.cat/actualitat/agenda/nit-musical-a-laltell.html
CLASS:PUBLIC
END:VEVENT
END:VCALENDAR
