BEGIN:VCALENDAR
VERSION:2.0
CALSCALE:GREGORIAN
PRODID:-//Diputació de Barcelona//DibaCMS//EN
BEGIN:VEVENT
UID:5293
DTSTAMP:20260420T204549
DTSTART:20220815T110000
DTEND:20220815T120000
SUMMARY:Esmorzar popular
LOCATION:Davant de l'Ajuntament 
METHOD:PUBLISH
X-WR-CALNAME:ullastrell@ullastrell.cat
X-WR-TIMEZONE:Europe/Madrid
DESCRIPTION:Gaudeix d'un esmorzar a la Festa dels Gegants. Esmorzar per  a tothom.

URI:https://www.ullastrell.cat/actualitat/agenda/esmorzar-popular.html
CLASS:PUBLIC
END:VEVENT
END:VCALENDAR
