BEGIN:VCALENDAR
VERSION:2.0
CALSCALE:GREGORIAN
PRODID:-//Diputació de Barcelona//DibaCMS//EN
BEGIN:VEVENT
UID:5294
DTSTAMP:20260420T171023
DTSTART:20220815T123000
DTEND:20220815T133000
SUMMARY:Recollida de rams, ofrena florar i misa de Festa Major
LOCATION:
METHOD:PUBLISH
X-WR-CALNAME:ullastrell@ullastrell.cat
X-WR-TIMEZONE:Europe/Madrid
DESCRIPTION:Recollida de rams, ofrena floral a Santa Maria, patrona d'Ullastrell, i misa de Festa Major

URI:https://www.ullastrell.cat/actualitat/agenda/recollida-de-rams-ofrena-florar-i-misa-de-festa-major.html
CLASS:PUBLIC
END:VEVENT
END:VCALENDAR
