BEGIN:VCALENDAR
VERSION:2.0
CALSCALE:GREGORIAN
PRODID:-//Diputació de Barcelona//DibaCMS//EN
BEGIN:VEVENT
UID:5295
DTSTAMP:20260420T164330
DTSTART:20220815T130000
DTEND:20220815T140000
SUMMARY:Concert-Vermut de Festa Major
LOCATION:Davant de l'Ajuntament 
METHOD:PUBLISH
X-WR-CALNAME:ullastrell@ullastrell.cat
X-WR-TIMEZONE:Europe/Madrid
DESCRIPTION:Vermut amenitzat per la música de la Carla Collado

URI:https://www.ullastrell.cat/actualitat/agenda/concert-vermut-de-festa-major.html
CLASS:PUBLIC
END:VEVENT
END:VCALENDAR
