BEGIN:VCALENDAR
VERSION:2.0
CALSCALE:GREGORIAN
PRODID:-//Diputació de Barcelona//DibaCMS//EN
BEGIN:VEVENT
UID:5303
DTSTAMP:20260420T180618
DTSTART:20220816T123000
DTEND:20220816T133000
SUMMARY:Missa en intenció dels difunts de la colla de la gent gran
LOCATION:Plaça de l'església, 2 08231 Ullastrell
METHOD:PUBLISH
X-WR-CALNAME:ullastrell@ullastrell.cat
X-WR-TIMEZONE:Europe/Madrid
DESCRIPTION:Organitza: Parròquia de Santa Maria d'Ullastrell

URI:https://www.ullastrell.cat/actualitat/agenda/missa-en-intencio-dels-difunts-de-la-colla-de-la-gent-gran.html
CLASS:PUBLIC
END:VEVENT
END:VCALENDAR
