BEGIN:VCALENDAR
VERSION:2.0
CALSCALE:GREGORIAN
PRODID:-//Diputació de Barcelona//DibaCMS//EN
BEGIN:VEVENT
UID:5313
DTSTAMP:20260420T181644
DTSTART:20220921T200000
DTEND:20220921T203000
SUMMARY:Ple extraordinari
LOCATION:
METHOD:PUBLISH
X-WR-CALNAME:ullastrell@ullastrell.cat
X-WR-TIMEZONE:Europe/Madrid
DESCRIPTION:Tipus de convocatòria: Extraordinària
Data i hora: 21 de setembre  2022 a les 20:00
Lloc: Sala de Plens
 

URI:https://www.ullastrell.cat/actualitat/agenda/5313-ple-extraordinari.html
CLASS:PUBLIC
END:VEVENT
END:VCALENDAR
