BEGIN:VCALENDAR
VERSION:2.0
CALSCALE:GREGORIAN
PRODID:-//Diputació de Barcelona//DibaCMS//EN
BEGIN:VEVENT
UID:5319
DTSTAMP:20260420T191756
DTSTART:20221006T170000
DTEND:20221006T190000
SUMMARY:TALLER - JOCS DE TAULA
LOCATION:C/ Josep Fornell, s/n 08231 Ullastrell
METHOD:PUBLISH
X-WR-CALNAME:ullastrell@ullastrell.cat
X-WR-TIMEZONE:Europe/Madrid
DESCRIPTION:A càrrec de Jugar x Jugar

URI:https://www.ullastrell.cat/actualitat/agenda/5319-taller-jocs-de-taula.html
CLASS:PUBLIC
END:VEVENT
END:VCALENDAR
