BEGIN:VCALENDAR
VERSION:2.0
CALSCALE:GREGORIAN
PRODID:-//Diputació de Barcelona//DibaCMS//EN
BEGIN:VEVENT
UID:5330
DTSTAMP:20260420T173952
DTSTART:20221020T173000
DTEND:20221020T190000
SUMMARY:MASTERCLASS HIPOPRESSIUS
LOCATION:Sala Polivalent 
METHOD:PUBLISH
X-WR-CALNAME:ullastrell@ullastrell.cat
X-WR-TIMEZONE:Europe/Madrid
DESCRIPTION:Masterclass d’hipopressius amb l’Eli Amat.

URI:https://www.ullastrell.cat/actualitat/agenda/masterclass-hipopressius.html
CLASS:PUBLIC
END:VEVENT
END:VCALENDAR
