BEGIN:VCALENDAR
VERSION:2.0
CALSCALE:GREGORIAN
PRODID:-//Diputació de Barcelona//DibaCMS//EN
BEGIN:VEVENT
UID:5338
DTSTAMP:20260420T144214
DTSTART:20221028T200000
DTEND:20221028T210000
SUMMARY:NIT DE TERROR: BINGO DE TERROR
LOCATION:C/Josep Fornell s/n  08231 Ullastrell
METHOD:PUBLISH
X-WR-CALNAME:ullastrell@ullastrell.cat
X-WR-TIMEZONE:Europe/Madrid
DESCRIPTION:Podreu posar a prova els vostres coneixements sobre pel·lis de terror i fantàstic tot passant una bona estona al Casal amb aquest Bingo tan especial.

URI:https://www.ullastrell.cat/actualitat/agenda/nit-de-terror-bingo-de-terror.html
CLASS:PUBLIC
END:VEVENT
END:VCALENDAR
