BEGIN:VCALENDAR
VERSION:2.0
CALSCALE:GREGORIAN
PRODID:-//Diputació de Barcelona//DibaCMS//EN
BEGIN:VEVENT
UID:5342
DTSTAMP:20260420T161803
DTSTART:20221112T220000
DTEND:20221112T235500
SUMMARY:HATTRICKY FEST (+16)
LOCATION:Plaça de les escoles, 1 08231 Ullastrell
METHOD:PUBLISH
X-WR-CALNAME:ullastrell@ullastrell.cat
X-WR-TIMEZONE:Europe/Madrid
DESCRIPTION:Festa amb temàtica futbolística.

URI:https://www.ullastrell.cat/actualitat/agenda/hattricky-fest-16.html
CLASS:PUBLIC
END:VEVENT
END:VCALENDAR
