BEGIN:VCALENDAR
VERSION:2.0
CALSCALE:GREGORIAN
PRODID:-//Diputació de Barcelona//DibaCMS//EN
BEGIN:VEVENT
UID:5344
DTSTAMP:20260420T143625
DTSTART:20221116T174500
DTEND:20221116T183000
SUMMARY:VIU LA MÚSICA (3-6 ANYS)
LOCATION:C/ Josep Fornell, s/n 08231 Ullastrell
METHOD:PUBLISH
X-WR-CALNAME:ullastrell@ullastrell.cat
X-WR-TIMEZONE:Europe/Madrid
DESCRIPTION:A càrrec de Roser Borsó

URI:https://www.ullastrell.cat/actualitat/agenda/5344-viu-la-musica-3-6-anys.html
CLASS:PUBLIC
END:VEVENT
END:VCALENDAR
