BEGIN:VCALENDAR
VERSION:2.0
CALSCALE:GREGORIAN
PRODID:-//Diputació de Barcelona//DibaCMS//EN
BEGIN:VEVENT
UID:5348
DTSTAMP:20260420T144107
DTSTART:20221122T170000
DTEND:20221122T175000
SUMMARY:LLEGIM EN TRIBU: COEDUCACIÓ
LOCATION:C/ Josep Fornell, s/n 08231 Ullastrell
METHOD:PUBLISH
X-WR-CALNAME:ullastrell@ullastrell.cat
X-WR-TIMEZONE:Europe/Madrid
DESCRIPTION:Preu Gratuït Grup de criança.

URI:https://www.ullastrell.cat/actualitat/agenda/llegim-en-tribu-coeducacio.html
CLASS:PUBLIC
END:VEVENT
END:VCALENDAR
