BEGIN:VCALENDAR
VERSION:2.0
CALSCALE:GREGORIAN
PRODID:-//Diputació de Barcelona//DibaCMS//EN
BEGIN:VEVENT
UID:5353
DTSTAMP:20260420T162104
DTSTART:20221120T110000
DTEND:20221120T140000
SUMMARY:MERCAT D'INTERCANVI DE ROBA
LOCATION:Davant de l'Ajuntament. 
METHOD:PUBLISH
X-WR-CALNAME:ullastrell@ullastrell.cat
X-WR-TIMEZONE:Europe/Madrid
DESCRIPTION:Vine al mercat d’intercanvi de roba, porta la teva roba que ja no necessites i canvia-la!

URI:https://www.ullastrell.cat/actualitat/agenda/mercat-dintercanvi-de-roba.html
CLASS:PUBLIC
END:VEVENT
END:VCALENDAR
