BEGIN:VCALENDAR
VERSION:2.0
CALSCALE:GREGORIAN
PRODID:-//Diputació de Barcelona//DibaCMS//EN
BEGIN:VEVENT
UID:5370
DTSTAMP:20260420T204308
DTSTART:20221015T113000
DTEND:20221015T123000
SUMMARY:Inauguració camp de Futbol d'Ullastrell
LOCATION:C/ Josep Fornell, s/n 08231 Ullastrell
METHOD:PUBLISH
X-WR-CALNAME:ullastrell@ullastrell.cat
X-WR-TIMEZONE:Europe/Madrid
DESCRIPTION:Us esperem dissabte 15 d'octubre per inaugurar el Nou Camp de Futbol Municipal d'Ullastrell amb una jornada plena d'activitats!

URI:https://www.ullastrell.cat/actualitat/agenda/inauguracio-camp-de-futbol-dullastrell.html
CLASS:PUBLIC
END:VEVENT
END:VCALENDAR
