BEGIN:VCALENDAR
VERSION:2.0
CALSCALE:GREGORIAN
PRODID:-//Diputació de Barcelona//DibaCMS//EN
BEGIN:VEVENT
UID:5396
DTSTAMP:20260420T144051
DTSTART:20221202T160000
DTEND:20221202T173000
SUMMARY:CURS D'AUTOCONTROLS, AL·LÈRGENS I ETIQUETATGE
LOCATION:C/ Josep Fornell, s/n 08231 Ullastrell
METHOD:PUBLISH
X-WR-CALNAME:ullastrell@ullastrell.cat
X-WR-TIMEZONE:Europe/Madrid
DESCRIPTION:Curs on aprendrem a seguir els autocontrols sanitaris en establiments alimentaris i gestió i comunicació dels al·lèrgens.

URI:https://www.ullastrell.cat/actualitat/agenda/curs-dautocontrols-allergens-i-etiquetatge.html
CLASS:PUBLIC
END:VEVENT
END:VCALENDAR
