BEGIN:VCALENDAR
VERSION:2.0
CALSCALE:GREGORIAN
PRODID:-//Diputació de Barcelona//DibaCMS//EN
BEGIN:VEVENT
UID:5400
DTSTAMP:20260420T144204
DTSTART:20221130T200000
DTEND:20221130T210000
SUMMARY:Ple extraordinari 30 novembre de 2022
LOCATION:
METHOD:PUBLISH
X-WR-CALNAME:ullastrell@ullastrell.cat
X-WR-TIMEZONE:Europe/Madrid
DESCRIPTION:DADES DE LA CONVOCATÒRIA
Tipus de convocatòria: Extraordinària
Data i hora: 30 / de novembre / 2022 a les 20:00
Lloc: Sala de Plens

URI:https://www.ullastrell.cat/actualitat/agenda/ple-extraordinari-30-novembre-de-2022.html
CLASS:PUBLIC
END:VEVENT
END:VCALENDAR
